BEGIN:VCALENDAR
METHOD:PUBLISH
PRODID:Data::ICal 0.13
VERSION:2.0
BEGIN:VEVENT
DESCRIPTION:
DTSTAMP:20260423T091045Z
DTSTART;TZID=America/New_York:20260512T190000
DTEND;TZID=America/New_York:20260512T210000
LOCATION:1030 Woodward Ave.\, Charlotte\, NC\, 28206
SUMMARY:WBT&#8217;s &#8220;News &amp; Brews&#8221; Back At Heist Brewery And Barrel Arts
UID:1644665-1778612400-1778619600
END:VEVENT
END:VCALENDAR
