BEGIN:VCALENDAR
METHOD:PUBLISH
PRODID:Data::ICal 0.13
VERSION:2.0
BEGIN:VEVENT
DESCRIPTION:
DTSTAMP:20260422T104850Z
DTSTART;TZID=America/New_York:20260620T185900
DTEND;TZID=America/New_York:20260620T230000
LOCATION:Charlotte\, NC
SUMMARY:Chris Stapleton&#8217;s &#8220;All American Road Show&#8221; Coming To Bank Of America Stadium
UID:1604893-1781981940-1781996400
END:VEVENT
END:VCALENDAR
