BEGIN:VCALENDAR
METHOD:PUBLISH
PRODID:Data::ICal 0.13
VERSION:2.0
BEGIN:VEVENT
DESCRIPTION:Join the WBT Air Team for a night of fun conversation about everything happening in Charlotte, D.C., and everywhere in between! &nbsp; 



It’s all happening at Heist Brewery &amp; Barrel Arts on Tuesday, May 12th, from 7-9 PM! &nbsp; 



It’s WBT’s News &amp; Brews! 



Source: WBT / Radio One Digital
DTSTAMP:20260419T181001Z
DTSTART;TZID=America/New_York:20260517T190000
DTEND;TZID=America/New_York:20260517T210000
LOCATION:
SUMMARY:WBT&#8217;s News &#038; Brews
UID:1644628-1779044400-1779051600
END:VEVENT
END:VCALENDAR
